BEGIN:VCALENDAR
VERSION:2.0
PRODID:-//Sibiu Junior - ECPv6.8.1//NONSGML v1.0//EN
CALSCALE:GREGORIAN
METHOD:PUBLISH
X-WR-CALNAME:Sibiu Junior
X-ORIGINAL-URL:https://sibiujunior.ro
X-WR-CALDESC:Events for Sibiu Junior
REFRESH-INTERVAL;VALUE=DURATION:PT1H
X-Robots-Tag:noindex
X-PUBLISHED-TTL:PT1H
BEGIN:VTIMEZONE
TZID:UTC
BEGIN:STANDARD
TZOFFSETFROM:+0000
TZOFFSETTO:+0000
TZNAME:UTC
DTSTART:20260101T000000
END:STANDARD
END:VTIMEZONE
BEGIN:VEVENT
DTSTART;TZID=UTC:20260425T110000
DTEND;TZID=UTC:20260425T123000
DTSTAMP:20260422T034147
CREATED:20260401T105521Z
LAST-MODIFIED:20260401T105521Z
UID:1840-1777114800-1777120200@sibiujunior.ro
SUMMARY:Atelier de pictat Aurore Boreale
DESCRIPTION:Atelier de pictat Aurore Boreale – artă și știință sub același cer\nTe invităm la un atelier special în care descoperim unul dintre cele mai spectaculoase fenomene ale naturii: aurora boreală.\nVom începe seara cu o scurtă prezentare științifică\, în care explorăm povestea aurorelor: cum interacționează vântul solar cu atmosfera Pământului de ce apar culorile verzi\, roșii sau violet pe cer unde pot fi observate cel mai bine aceste spectacole cosmice\nDupă ce înțelegem fenomenul\, ne lăsăm inspirați de el și trecem la partea creativă: un atelier de pictură în care fiecare participant își va crea propria auroră boreală pe pânză. Nu este nevoie de experiență în pictură – atmosfera este relaxată\, iar noi te ghidăm pas cu pas.\n Ce include atelierul:• scurtă prezentare despre fenomenul aurorei boreale• toate materialele de pictură• ghidaj artistic pe parcursul atelierului• tabloul realizat de tine\, pe care îl vei lua acasă\nEvenimentul este o combinație de curiozitate științifică și expresie artistică\, perfect pentru oricine iubește cerul\, natura sau pur și simplu vrea o experiență creativă diferită.\nNe vedem la Muzeu! Donație recomandată atelier: 60 de lei bilet acces muzeu: 20 de lei\nÎnscrieri: 0746736606
URL:https://sibiujunior.ro/event/atelier-de-pictat-aurore-boreale/
LOCATION:Muzeul de Istorie Naturala Sibiu
ATTACH;FMTTYPE=image/jpeg:https://sibiujunior.ro/wp-content/uploads/2026/04/657080810_1440137368151907_6739205080283030351_n.jpg
END:VEVENT
BEGIN:VEVENT
DTSTART;TZID=UTC:20260628T160000
DTEND;TZID=UTC:20260703T140000
DTSTAMP:20260422T034147
CREATED:20260312T100136Z
LAST-MODIFIED:20260312T100136Z
UID:1673-1782662400-1783087200@sibiujunior.ro
SUMMARY:Tabara Stiintescu- Summer Steam
DESCRIPTION:Spunem START înscrierilor!!!!!Anul acesta împlinim 10 ani de existență iar tabăra aceasta se lasă cu un MegaTenParty!!!!!!Nu rata perioada de înscrieri\, accesează linkul și înscrie-te! https://forms.gle/2fjLZBAwsRgZTZ4aA
URL:https://sibiujunior.ro/event/tabara-stiintescu-summer-steam/
LOCATION:Cabana Supporter
ATTACH;FMTTYPE=image/jpeg:https://sibiujunior.ro/wp-content/uploads/2026/03/635272148_1337812068364501_1645753412220328740_n.jpg
END:VEVENT
END:VCALENDAR